0.2000000000
0.0000000000
0.0000000000
-0.2000000000
317164.1000000000
6504325.9000000004
