0.2000000000
0.0000000000
0.0000000000
-0.2000000000
322164.1000000000
6505325.9000000004
