0.2000000000
0.0000000000
0.0000000000
-0.2000000000
316164.1000000000
6506325.9000000004
