0.2000000000
0.0000000000
0.0000000000
-0.2000000000
321164.1000000000
6508325.9000000004
