0.2500000000
0.0000000000
0.0000000000
-0.2500000000
471450.3750000000
428472.1250000000
