0.2500000000
0.0000000000
0.0000000000
-0.2500000000
471537.6250000000
430748.3750000000
