0.2500000000
0.0000000000
0.0000000000
-0.2500000000
468101.8750000000
428600.3750000000
