0.2500000000
0.0000000000
0.0000000000
-0.2500000000
468189.3750000000
430876.6250000000
