0.2500000000
0.0000000000
0.0000000000
-0.2500000000
464753.3750000000
428729.1250000000
