0.2500000000
0.0000000000
0.0000000000
-0.2500000000
464841.1250000000
431005.3750000000
