0.2500000000
0.0000000000
0.0000000000
-0.2500000000
461404.8750000000
428858.3750000000
