0.2500000000
0.0000000000
0.0000000000
-0.2500000000
461493.1250000000
431134.8750000000
