0.2500000000
0.0000000000
0.0000000000
-0.2500000000
471624.6250000000
433024.8750000000
