0.2500000000
0.0000000000
0.0000000000
-0.2500000000
471711.6250000000
435301.1250000000
