0.2500000000
0.0000000000
0.0000000000
-0.2500000000
468276.6250000000
433153.1250000000
