0.2500000000
0.0000000000
0.0000000000
-0.2500000000
468364.1250000000
435429.3750000000
