0.2500000000
0.0000000000
0.0000000000
-0.2500000000
464928.8750000000
433281.8750000000
