0.2500000000
0.0000000000
0.0000000000
-0.2500000000
465016.6250000000
435558.1250000000
