0.2500000000
0.0000000000
0.0000000000
-0.2500000000
461581.1250000000
433411.1250000000
