0.2500000000
0.0000000000
0.0000000000
-0.2500000000
488193.3750000000
427838.3750000000
