0.2500000000
0.0000000000
0.0000000000
-0.2500000000
484844.6250000000
427964.1250000000
