0.2500000000
0.0000000000
0.0000000000
-0.2500000000
481496.1250000000
428090.3750000000
