0.2500000000
0.0000000000
0.0000000000
-0.2500000000
481582.1250000000
430366.8750000000
