0.2500000000
0.0000000000
0.0000000000
-0.2500000000
478147.6250000000
428217.1250000000
