0.2500000000
0.0000000000
0.0000000000
-0.2500000000
478233.8750000000
430493.6250000000
