0.2500000000
0.0000000000
0.0000000000
-0.2500000000
474799.1250000000
428344.3750000000
