0.2500000000
0.0000000000
0.0000000000
-0.2500000000
474885.6250000000
430620.6250000000
