0.2500000000
0.0000000000
0.0000000000
-0.2500000000
478320.1250000000
432769.8750000000
