0.2500000000
0.0000000000
0.0000000000
-0.2500000000
474972.3750000000
432897.1250000000
