0.2500000000
0.0000000000
0.0000000000
-0.2500000000
469709.8750000000
382943.8750000000
