0.2500000000
0.0000000000
0.0000000000
-0.2500000000
469796.8750000000
385220.1250000000
