0.2500000000
0.0000000000
0.0000000000
-0.2500000000
466354.3750000000
383072.3750000000
