0.2500000000
0.0000000000
0.0000000000
-0.2500000000
466441.8750000000
385348.8750000000
