0.2500000000
0.0000000000
0.0000000000
-0.2500000000
462998.8750000000
383201.3750000000
