0.2500000000
0.0000000000
0.0000000000
-0.2500000000
463086.6250000000
385477.8750000000
