0.2500000000
0.0000000000
0.0000000000
-0.2500000000
469883.8750000000
387496.6250000000
