0.2500000000
0.0000000000
0.0000000000
-0.2500000000
469970.8750000000
389773.1250000000
