0.2500000000
0.0000000000
0.0000000000
-0.2500000000
466529.1250000000
387625.1250000000
