0.2500000000
0.0000000000
0.0000000000
-0.2500000000
466616.6250000000
389901.6250000000
