0.2500000000
0.0000000000
0.0000000000
-0.2500000000
463174.3750000000
387754.1250000000
