0.2500000000
0.0000000000
0.0000000000
-0.2500000000
463262.1250000000
390030.6250000000
