0.2500000000
0.0000000000
0.0000000000
-0.2500000000
470057.8750000000
392049.6250000000
