0.2500000000
0.0000000000
0.0000000000
-0.2500000000
470144.8750000000
394325.8750000000
