0.2500000000
0.0000000000
0.0000000000
-0.2500000000
466703.8750000000
392178.1250000000
