0.2500000000
0.0000000000
0.0000000000
-0.2500000000
466791.3750000000
394454.3750000000
