0.2500000000
0.0000000000
0.0000000000
-0.2500000000
463349.8750000000
392307.1250000000
