0.2500000000
0.0000000000
0.0000000000
-0.2500000000
463437.6250000000
394583.3750000000
