0.2500000000
0.0000000000
0.0000000000
-0.2500000000
470232.1250000000
396602.3750000000
