0.2500000000
0.0000000000
0.0000000000
-0.2500000000
470319.1250000000
398878.8750000000
