0.2500000000
0.0000000000
0.0000000000
-0.2500000000
466878.6250000000
396730.8750000000
